BEGIN:VCALENDAR
PRODID:-//HKUST Drupal Platform//EN
VERSION:2.0
BEGIN:VTIMEZONE
TZID:Asia/Hong_Kong
BEGIN:STANDARD
DTSTART:20071104T020000
TZOFFSETFROM:+0700
TZOFFSETTO:+0800
TZNAME:HKT
END:STANDARD
END:VTIMEZONE
BEGIN:VEVENT
DTSTAMP;TZID=Asia/Hong_Kong:20260425T053636
DTSTART;TZID=Asia/Hong_Kong:20251223T000000
DTEND;TZID=Asia/Hong_Kong:20251223T235900
SUMMARY:Prof. Law Kam-Tuen was named “New Cornerstone Investigator” – Hong Kong’s Only Honoree this Year
UID:409
END:VEVENT
END:VCALENDAR